BEGIN:VCALENDAR
VERSION:2.0
PRODID:-//wp-events-plugin.com//7.2.3.1//EN
TZID:Europe/Berlin
X-WR-TIMEZONE:Europe/Berlin
BEGIN:VEVENT
UID:190@ifbcis.de
DTSTART;TZID=Europe/Berlin:20231116T143000
DTEND;TZID=Europe/Berlin:20231116T160000
DTSTAMP:20230417T104629Z
URL:https://ifbcis.de/events/wozu-soll-ich-mich-an-regeln-halten-die-bedeu
 tung-von-normen-und-werten-aus-entwicklungsfreundlicher-perspektive/
SUMMARY:„Wozu soll ich mich an Regeln halten?“ Die Bedeutung von Normen
  und Werten aus entwicklungsfreundlicher Perspektive
DESCRIPTION:Wenn das soziale Miteinander in Familie bzw. Wohngruppe\, am Ar
 beitsplatz\, im Kindergarten\, der Schule gelingen soll\, benötigen wir e
 in Bewusstsein für gut und schlecht\, erlaubt und verboten. Auch müssen 
 wir Regeln tatsächlich einhalten. Allerdings geschieht das oft nicht\, we
 il sie den eigenen Interessen entgegenstehen. Für pädagogische Fachkräf
 te stellen sich viele Fragen\, die im Seminar aufgegriffen werden:\n\nInha
 lt:\n\n 	Wie vermittele ich Normen und Werte?\n 	Auf welchem Entwicklungsn
 iveau kann ich welche Regeleinhaltung erwarten?\n 	Wie kann ich die Ausbil
 dung des Norm- und Wertbewusstseins entwicklungsfreundlich unterstützen?\
 n 	Welche Rolle spielen emotionale und kognitive Kompetenzen?\n 	Welche Be
 deutung haben Vorbilder?\n 	Welche Bedeutung haben Kompromisse?\n\n\nArbei
 tsformen: Onlinevortrag\, Gelegenheit zu fragen und zum Erfahrungsaustausc
 h\n\nZielgruppe: Mitarbeitende in pädagogischen Einrichtungen\n\nTechnik:
 \n\n 	einen PC oder Laptop\n 	stabile Internetverbindung\n 	eine Webcam (b
 ei Laptops eingebaut)\n\nDozentin: Hilke Kaukers\n\nTeilnehmer: max. 16 Pe
 rsonen\n\nPreis: 65\,00€ (incl. der gesetzlichen Mehrwertsteuer)\n\nVera
 nstaltungsort: Online\n\nBeginn: 14.30 – 16.00 Uhr\n\nTermin: 16.11.2023
 \n\nAnmeldeschluss: 02.11.2023
LOCATION:https://ifbcis.de/events/wozu-soll-ich-mich-an-regeln-halten-die-b
 edeutung-von-normen-und-werten-aus-entwicklungsfreundlicher-perspektive/
END:VEVENT
BEGIN:VTIMEZONE
TZID:Europe/Berlin
X-LIC-LOCATION:Europe/Berlin
BEGIN:STANDARD
DTSTART:20231029T020000
TZOFFSETFROM:+0200
TZOFFSETTO:+0100
TZNAME:CET
END:STANDARD
END:VTIMEZONE
END:VCALENDAR