BEGIN:VCALENDAR
VERSION:2.0
PRODID:-//wp-events-plugin.com//7.2.3.1//EN
TZID:Europe/Berlin
X-WR-TIMEZONE:Europe/Berlin
BEGIN:VEVENT
UID:272@ifbcis.de
DTSTART;TZID=Europe/Berlin:20260624T143000
DTEND;TZID=Europe/Berlin:20260624T170000
DTSTAMP:20260324T152625Z
URL:https://ifbcis.de/events/was-sagen-mir-diese-schaubilder-4/
SUMMARY:Was sagen mir diese Schaubilder?
DESCRIPTION:Klärung von Fragen zur Interpretation der BEP-KI-k Schaubilder
  \n\nSie arbeiten mit dem BEP-KI-k\, haben aber manchmal Fragen zur Inter
 pretation des Profils? Sie möchten genauer wissen\, wie Sie die offenen E
 ntwicklungsaufgaben erkennen\, wo sich die einzelnen Entwicklungsdimension
 en wechselseitig beeinflussen oder welche Chancen in der Analyse der Entwi
 cklungsthemen und Themenfelder liegen und wie Sie mit diesen arbeiten kön
 nen? Dann sind Sie in diesem Seminar genau richtig\, denn Sie können in i
 hm eines Ihrer digital erhobenen Schaubilder vorstellen und Ihre Fragen st
 ellen.\n\nInhalte des Seminars:\n\n 	gründliche Besprechung zweier Schaub
 ilder aus dem Teilnehmerkreis\n 	kurze Betrachtung der übrigen Schaubilde
 r\, Antwort auf offene Fragen\n 	Informationen zu einer inhaltlichen Inter
 pretationsstruktur\n\nZiel: \n\n 	die Beteiligten lernen voneinander\n 	si
 e vertiefen ihre Kompetenz zur Interpretation von BEP-KI-k Schaubildern\n\
 n\nArbeitsformen:\n\nErfahrungsaustausch\, Sammlung von Fragen\, gemeinsam
 e Betrachtung der Schaubilder\, Individualarbeit\n\nZielgruppe: (Heil-)pä
 dagogische Fachkräfte\, die BEP-KI-k Profile erheben\n\nDozentin: Dr. Bar
 bara Senckel\n\nTeilnehmer: max. 16 Personen\n\nPreis: 120\,00€ (Umsatzs
 teuerfreie Leistung)\n\nVeranstaltungsort: Online-Seminar via Zoom\n\nBegi
 nn: 14.30 – 17.00 Uhr\n\nTermin: 24.06.2026\n\nAnmeldeschluss: 10.06.202
 6
LOCATION:https://ifbcis.de/events/beziehungsweise-handeln-in-herausfordernd
 en-situationen-unter-besonderer-beruecksichtigung-der-entwicklungsfreundli
 chen-beziehung-nach-senckel-luxen/
END:VEVENT
BEGIN:VTIMEZONE
TZID:Europe/Berlin
X-LIC-LOCATION:Europe/Berlin
BEGIN:DAYLIGHT
DTSTART:20260329T030000
TZOFFSETFROM:+0100
TZOFFSETTO:+0200
TZNAME:CEST
END:DAYLIGHT
END:VTIMEZONE
END:VCALENDAR