BEGIN:VCALENDAR
VERSION:2.0
PRODID:-//wp-events-plugin.com//7.2.3.1//EN
TZID:Europe/Berlin
X-WR-TIMEZONE:Europe/Berlin
BEGIN:VEVENT
UID:184@ifbcis.de
DTSTART;TZID=Europe/Berlin:20230427T143000
DTEND;TZID=Europe/Berlin:20230427T160000
DTSTAMP:20230406T093526Z
URL:https://ifbcis.de/events/vom-kritzeln-malen-und-zeichnen-das-bild-aus-
 entwicklungsfreundlicher-perspektive/
SUMMARY:Vom Kritzeln\, Malen und Zeichnen  – das Bild aus entwicklungsfre
 undlicher Perspektive
DESCRIPTION:Bilder von Klient*innen zur Diagnostik heranzuziehen\, hat Trad
 ition in der Arbeit mit entwicklungsverzögerten und sozio-emotional block
 ierten Menschen. Denn viele bildnerische Elemente sind direkt den verschie
 denen Entwicklungsphasen zuzuordnen.\n\nIn diesem Seminar wird anhand von 
 Beispiel-Zeichnungen dargestellt\, wie sich der Stand des kreativen Selbst
 ausdrucks und die Fähigkeit zur Gliederung der Wahrnehmung\, an den Bilde
 rn ablesen lassen. Und es wird erklärt\, wie die Reaktion der Bezugsperso
 nen auf die Bilder ausfallen sollte\, um die entwicklungsfreundliche Bezie
 hung zu stärken: Wann ist ein Lob angebracht\, wann eine Korrektur? Und w
 as genau soll gelobt und bewundert werden? Verständnis zu wecken für die
  Zeichensprache insbesondere der frühen Entwicklungsphasen ist Ziel der V
 eranstaltung.\n\nInhalt:\n\n 	Die Entwicklung des bildhaften Ausdrucks\n 	
 Merkmale der einzelnen Entwicklungsphasen und ihr Zusammenhang mit der gei
 stigen Entwicklung\n 	Deutung des kreativen Selbstausdrucks und vertieftes
  Verständnis der Person\n 	Entwicklungsfreundlicher Umgang mit dem bildne
 rischen Selbstausdruck\n\n\nZielgruppe: Mitarbeitende in pädagogischen Ei
 nrichtungen\n\nTechnik:\n\n 	einen PC oder Laptop\n 	stabile Internetverbi
 ndung\n 	eine Webcam (bei Laptops eingebaut)\n\nDozentin: Hilke Kaukers\n\
 nTeilnehmer: max. 16 Personen\n\nPreis: 45\,00€ (incl. der gesetzlichen 
 Mehrwertsteuer)\n\nVeranstaltungsort: Online\n\nBeginn: 14.30 – 16.00 Uh
 r\n\nTermin: 27.04.2023\n\nAnmeldeschluss: 13.04.2023
LOCATION:https://ifbcis.de/events/vom-kritzeln-malen-und-zeichnen-das-bild-
 aus-entwicklungsfreundlicher-perspektive/
END:VEVENT
BEGIN:VTIMEZONE
TZID:Europe/Berlin
X-LIC-LOCATION:Europe/Berlin
BEGIN:DAYLIGHT
DTSTART:20230326T030000
TZOFFSETFROM:+0100
TZOFFSETTO:+0200
TZNAME:CEST
END:DAYLIGHT
END:VTIMEZONE
END:VCALENDAR