BEGIN:VCALENDAR
VERSION:2.0
PRODID:-//wp-events-plugin.com//7.2.3.1//EN
TZID:Europe/Berlin
X-WR-TIMEZONE:Europe/Berlin
BEGIN:VEVENT
UID:246@ifbcis.de
DTSTART;TZID=Europe/Berlin:20250523T090000
DTEND;TZID=Europe/Berlin:20250523T153000
DTSTAMP:20250325T080220Z
URL:https://ifbcis.de/events/verhaltensauffaelligkeiten-im-kinder-und-juge
 ndalter/
SUMMARY:Verhaltensauffälligkeiten im Kinder- und Jugendalter
DESCRIPTION:In der heutigen Zeit sehen sich Pädagoginnen und andere sozial
 e Fachkräfte zunehmend mit Verhaltensauffälligkeiten von jungen Menschen
  konfrontiert.\n\nDiese Auffälligkeiten können sich in unterschiedlichen
  Formen äußern\, sei es durch Unruhe\, Aggressivität\, Rückzug oder an
 dere Verhaltensweisen\, die den Alltag und das soziale Umfeld beeinträcht
 igen. Die Ursachen für solche Verhaltensauffälligkeiten sind Faktoren vi
 elfältige psychische und soziale Faktoren. Häufig sind Bindungsstörunge
 n die Ursache.\n\nEin besseres Verständnis dieser Hintergründe ist entsc
 heidend\, um angemessen und einfühlsam auf die Bedürfnisse der betroffen
 en Kinder und Jugendlichen einzugehen. In diesem Seminar lernen Sie:\n\n 	
 Ursachen und Symptome von Verhaltensauffälligkeiten kennen\n 	Die Bindung
 sstörung -Ursachen\, Symptome\n 	Verhalten bei Bindungsstörung im Jugend
 - und Erwachsenenalter\n 	„Junge Wilde“ Verhaltensmuster als Folge ein
 er Bindungsstörung.\n 	Phasenmodell des Umgangs mit bindungsgestörten Ju
 gendlichen und Erwachsenen\n 	Das Dock-Projekt der LAG zum Umgang mit „J
 ungen Wilden“\n\nZielgruppen:\n\nAlle pädagogischen und sozialpädagogi
 schen Fachkräfte                   Personen die sich mi
 t diesem Thema beschäftigen\n\nTeilnehmer:                
 max. 16 Personen\n\nDozent:                      Uwe 
 Steinmeyer\, Steinmeyer-Institut für klinische Organisationspsychologie\n
 \nPreis: 215\,00 €  zzgl. der gesetzlichen MwSt.\nOrt: Online\nTechnik:
 \n\n 	einen PC oder Laptop\n 	stabile Internetverbindung\n 	eine Webcam (b
 ei Laptops eingebaut)\n 	Headset oder Kopfhörer\n\nVeranstaltungsort: Onl
 ine\n\nBeginn: 09.00 – 15.30 Uhr\n\nTermin: 23.05.2025\n\nAnmeldeschluss
 : 08.05.2025
LOCATION:https://ifbcis.de/?post_type=event&p=498&preview=true
END:VEVENT
BEGIN:VTIMEZONE
TZID:Europe/Berlin
X-LIC-LOCATION:Europe/Berlin
BEGIN:DAYLIGHT
DTSTART:20250330T030000
TZOFFSETFROM:+0100
TZOFFSETTO:+0200
TZNAME:CEST
END:DAYLIGHT
END:VTIMEZONE
END:VCALENDAR