BEGIN:VCALENDAR
VERSION:2.0
PRODID:-//wp-events-plugin.com//7.2.3.1//EN
TZID:Europe/Berlin
X-WR-TIMEZONE:Europe/Berlin
BEGIN:VEVENT
UID:194@ifbcis.de
DTSTART;TZID=Europe/Berlin:20231204T100000
DTEND;TZID=Europe/Berlin:20231205T170000
DTSTAMP:20231115T060208Z
URL:https://ifbcis.de/events/traumafolgestoerungen-der-kollaps-unserer-war
 nsysteme-10/
SUMMARY:Traumafolgestörungen - Der Kollaps unserer Warnsysteme
DESCRIPTION:&nbsp\;\nTraumafolgestörungen - Der Kollaps unserer Warnsystem
 e\nTraumata sind eine verheerende Erfahrung. Unser Gehirn\, das sonst zuve
 rlässig den Ansturm an Informationen und Situationen hormonellen Ungleich
 gewichts kompensieren kann\, gerät an seine Grenzen. Traumatisierende Erl
 ebnisse können ein von allem Verstand und therapeutischen Anstrengungen l
 osgelöstes Eigenleben führen. Sie sind quälend und über die Jahre hinw
 eg\, in denen sie nicht bewusst und angestrengt bearbeitet werden\, lassen
  sie den Menschen massive Ängste\, Gefühle absoluter Hilflosigkeit und m
 itunter grausame Flashbacks erleiden.\n\nTraumatische Erfahrungen sind kei
 n seltenes Phänomen. Etwa acht Prozent der Bevölkerung leiden irgendwann
  im Laufe ihres Lebens unter posttraumatischen Stresssymptomen\, oft auch 
 unerkannt oder unbewusst und erst einmal nicht als Traumafolgestörung dia
 gnostiziert.\n\nDie Posttraumatische Belastungsstörung (PTSD) beispielswe
 ise ist eine mögliche Folgereaktion eines oder mehrerer traumatischer Ere
 ignisse wie z. B. Erleben von körperlicher und sexualisierter Gewalt\, au
 ch in der Kindheit\, Vergewaltigung\, gewalttätige Angriffe auf die eigen
 e Person\, Entführung\, Geiselnahme\, Terroranschlag\, Krieg\, Kriegsgefa
 ngenschaft\, politische Haft\, Folterung\, Natur- oder durch Menschen veru
 rsachte Katastrophen\, Unfälle oder die Diagnose einer lebensbedrohlichen
  Krankheit –die an der eigenen Person\, aber auch an fremden Personen er
 lebt werden können. In vielen Fällen kann es zu einer Erschütterung des
  Selbst- und Weltverständnisses kommen.\n\nDas Störungsbild ist geprägt
  durch z. B. belastende Gedanken und Erinnerungen oder auch Erinnerungslü
 cken\, Übererregungssymptome wie Schlafstörung und Konzentrationsproblem
 e\, Vermeidungsverhalten\, emotionaler Rückzug etc. und für viele Fachkr
 äfte in der Begleitung der Menschen mit Traumafolgestörung selber ein em
 otionaler Kraftakt.\n\nIn der Fortbildung werden am ersten Tag die Grundla
 gen gelegt\, um die neuronalen Veränderungen im Gehirn nachvollziehen zu 
 können.\n\nEs werden sowohl Schocktraumata wie auch Entwicklungstraumata 
 ausführlich behandelt. Ein weiterer Schwerpunkt ist\, die Symptome und de
 ren Auslöser zu erkennen\, und an exemplarischen Beispielen die konkreten
  psychischen Belastungen zu erörtern.\n\nDer zweite Tag hat den Schwerpun
 kt im praktischen Ansatz. Nach Inputs zum Konzept der Salutogenese und zum
  Trauma-sensiblen Handeln kommt die Methode der kollegialen Beratung zum E
 insatz\, hier können die Erfahrungen der Seminarteilnehmenden in einem re
 gen Austausch einbezogen werden.\n\nInhalte: \n\n 	Tag:\n\nDer Kollaps uns
 erer Warnsysteme: Grundlagen zum Aufbau unseres Gehirns und die Trauma-beg
 ünstigenden Störungen auf der Ebene der neuronalen Strukturen\n\nTrauma:
  Auslöser\, Symptome und Diagnostik\,\n\nEntwicklungstraumatisierung bei 
 (sexualisierter) Gewalt\, Vernachlässigung\, Beziehungsabbrüchen\n\nScho
 cktraumatisierung bei Unfällen\, Kriegserlebnissen\, Vergewaltigungen und
  anderen Gewaltdelikten\n\n 	 Tag \n\nSalutogenese: das Konzept nach Anton
 ovsky\n\nTraumapädagogische Grundlagen\n\nTraumasensibles Handeln\n\nArbe
 itsformen \n\n 	Praxisorientierte Vorträge mit Fallbeispielen\n 	Kollegia
 le Beratung zu eingebrachten Beispielen\n 	Austausch zu den Erfahrungen de
 r TeilnehmerInnen\n\nZielgruppe:                  Fachkr
 äfte aus Jugendhilfe\, Werkstätten\, Wohnheimen\, sozialen und beruflich
 en Reha-Einrichtungen\n\nTeilnehmer:                max. 16
  Personen\n\nDozent:                       Roland Ha
 ag\, Dipl. Psychologe\n\nPreis:                      
      429\,00€ zzgl. MwSt. (Inkl. Seminarunterlagen\, Stehkaffee mit 
 Gebäck\, Tagungsgetränke und am Nachmittag Kaffee und Kuchen) ohne Über
 nachtung\n\nVeranstaltungsort:  Jugendgästehaus am Berliner Hauptbahnhof
 \nLehrter Straße 68\n10557 Berlin\nBeginn:                    
          10.00 – 17.00 Uhr\nTermin:                
              04.-05.12.2023\n\nAnmeldeschluss:           
      20.11.2023
LOCATION:Jugendgästehaus am Berliner Hauptbahnhof\, Lehrter Straße 68\, 1
 0557 Berlin\, Deutschland
GEO:52.526537;13.362621
X-APPLE-STRUCTURED-LOCATION;VALUE=URI;X-ADDRESS=Lehrter Straße 68\, 10557 
 Berlin\, Deutschland;X-APPLE-RADIUS=100;X-TITLE=Jugendgästehaus am Berlin
 er Hauptbahnhof:geo:52.526537,13.362621
END:VEVENT
BEGIN:VTIMEZONE
TZID:Europe/Berlin
X-LIC-LOCATION:Europe/Berlin
BEGIN:STANDARD
DTSTART:20231029T020000
TZOFFSETFROM:+0200
TZOFFSETTO:+0100
TZNAME:CET
END:STANDARD
END:VTIMEZONE
END:VCALENDAR