BEGIN:VCALENDAR
VERSION:2.0
PRODID:-//wp-events-plugin.com//7.2.3.1//EN
TZID:Europe/Berlin
X-WR-TIMEZONE:Europe/Berlin
BEGIN:VEVENT
UID:188@ifbcis.de
DTSTART;TZID=Europe/Berlin:20231019T093000
DTEND;TZID=Europe/Berlin:20231019T173000
DTSTAMP:20230922T052612Z
URL:https://ifbcis.de/events/schau-genau-hin-diagnostik-und-verstehen-mit-
 dem-entwicklungsfreundlichen-blick/
SUMMARY:„Schau genau hin…“ Diagnostik und Verstehen mit dem entwicklu
 ngsfreundlichen Blick
DESCRIPTION:Je differenzierter in der Entwicklungsdiagnostik die zentralen 
 sozio-emotionalen und kognitiven Entwicklungsthemen erfasst werden\, umso 
 passgenauer kann die professionelle Beziehungsgestaltung auf die Entwicklu
 ngsbedürfnisse der Kinder oder Menschen mit Behinderung eingehen\, ihre R
 essourcen wecken und ihnen zur Überwindung problematischer Verhaltensweis
 en helfen. Die inhaltliche Interpretation des „Befindlichkeitsorientiert
 en Entwicklungsprofils für normal begabte Kinder und Menschen mit Intelli
 genzminderung (BEP-KI-k)“ bietet hierfür die notwendige Voraussetzung.\
 n\nInhalte:\n\n 	Betrachtung eines Entwicklungsprofils (Grundskala und Erg
 änzungsskala)\, zusammenfassende strukturelle Interpretation\n 	Berechnun
 g des Bewältigungsgrades der einzelnen Entwicklungsaufgaben\n 	Analyse de
 r einzelnen Entwicklungsthemen im Rahmen der Entwicklungsaufgaben\n 	Erlä
 uterung des Zusammenhangs zwischen sozio-emotionalen und kognitiven Kompet
 enzen\n 	Beurteilung der emotionalen Stabilität\, d.h. der Befindlichkeit
 sabhängigkeit der Kompetenzen\n 	Einbeziehung biografischer Informationen
 \n 	Ableitung passgenauer pädagogischer Interventionen\n\nArbeitsformen: 
 Onlinevortrag und Einübung der inhaltlichen Interpretation In Kleingruppe
 n\n\n&nbsp\;\n\nWichtiger Hinweis: Dieses Seminar bezieht sich auf das Buc
 h: „Der entwicklungsfreundliche Blick“. Wir empfehlen Ihnen vorab die 
 Teilnahme am Seminar „Hol mich da ab\, wo ich stehe…“-Diagnostik mit
  dem entwicklungsfreundlichen Blick (BEP-KI-k 005)\n\n&nbsp\;\n\nZielgrupp
 e: Pädagogische oder psychologische Fachkräfte mit Erfahrung in der Prof
 ilerhebung und strukturellen Interpretation.\n\n&nbsp\;\n\nTechnik:\n\n 	e
 inen PC oder Laptop\n 	stabile Internetverbindung\n 	eine Webcam (bei Lapt
 ops eingebaut)\n\nDozentin: Hilke Kaukers\n\nTeilnehmer: max. 12 Personen\
 n\nPreis: 200\,00€ (incl. der gesetzlichen Mehrwertsteuer)\n\nVeranstalt
 ungsort: Online\n\nBeginn: 09.30 – 17.30 Uhr\n\nTermin: 19.10.2023\n\nAn
 meldeschluss: 06.10.2023
LOCATION:https://ifbcis.de/events/schau-genau-hin-diagnostik-und-verstehen-
 mit-dem-entwicklungsfreundlichen-blick/
END:VEVENT
BEGIN:VTIMEZONE
TZID:Europe/Berlin
X-LIC-LOCATION:Europe/Berlin
BEGIN:DAYLIGHT
DTSTART:20230326T030000
TZOFFSETFROM:+0100
TZOFFSETTO:+0200
TZNAME:CEST
END:DAYLIGHT
END:VTIMEZONE
END:VCALENDAR