BEGIN:VCALENDAR
VERSION:2.0
PRODID:-//wp-events-plugin.com//7.2.3.1//EN
TZID:Europe/Berlin
X-WR-TIMEZONE:Europe/Berlin
BEGIN:VEVENT
UID:168@ifbcis.de
DTSTART;TZID=Europe/Berlin:20221102T100000
DTEND;TZID=Europe/Berlin:20221103T170000
DTSTAMP:20221010T075659Z
URL:https://ifbcis.de/events/psychisch-krank-4/
SUMMARY:Psychisch krank
DESCRIPTION:Psychisch gestört oder nur auffällig und individuell \nErfolg
 reich im pädagogischen Alltag mit auffälligen und gestörten Klienten\nZ
 unehmend werden Menschen in Werkstätten und Wohneinrichtungen aufgenommen
 \, die Verhaltensauffälligkeiten zeigen oder unter psychischen Störungen
  leiden.\n\nOftmals ist dabei die Abgrenzung zwischen Verhaltensauffällig
 keit und psychischer Störung nicht klar erkennbar und es bestehen Unsiche
 rheiten im pädagogischen Umgang.\n\nIn diesem Seminar lernen Sie die grun
 dlegenden Merkmale von Verhaltensauffälligkeiten und wesentlichen Störun
 gsbildern kennen und das pädagogische Verhältnis zu den Beschäftigten o
 ptimal zu gestalten. Darüber hinaus erkennen Sie\, wann fachpsychologisch
 e oder medizinische Hilfe erforderlich wird  und werden somit entscheidun
 gssicherer.\n\nTag 1\n\nAbgrenzung Psychische Störung und Verhaltensauff
 älligkeit\n\nErhebung notwendiger Anamnesedaten (in Anlehnung an Prof. Th
 eunissen)\n\nGrundlagen der Entstehung psychischer Störungen\n\nDie ICD 1
 0 - Aufbau und Verwendung\n\nWesentliche Störungsbilder und der erfolgrei
 che pädagogische Umgang mit betroffenen Beschäftigten insbesondere:\n\n 
 	Affektive Störungen (Depression\, Manie\, bipolare Störung)\n 	Angstst
 örungen\n 	Anpassungsstörung\n 	Fallstudien\n 	Vorstellung eigener Fäll
 e\n\nTag 2\n\nPersönlichkeitsstörungen ( Vertiefte Behandlung der narzis
 stische Persönlichkeitsstörung und Borderline)\n\nIm Zusammenhang auftre
 tende Störungsbilder und Leitsymptomatik\n\nPsychotischer Formenkreis ( S
 chizophrenie)\n\nFallstudien\n\nVorstellung eigener Fälle\n\nZielgruppe:
                   Mitarbeiterinnen und Mitarbeiter in soz
 ialen Einrichtungen\, die mit Psychisch kranken Menschen arbeiten\n\nTeiln
 ehmer:                max. 16 Personen\n\nDozent:     
                   Uwe Steinmeyer\, Dozent für klientenze
 ntrierte Gesprächsführung und klinische Psychologie\n\nPreis:      
                      375\,00€ zzgl. MwSt. (Inkl. Sem
 inarunterlagen\, Stehkaffee mit Gebäck\, Tagungsgetränke und am Nachmitt
 ag Kaffee und Kuchen) ohne Übernachtung\n\nVeranstaltungsort: Evangelisch
 e Gesellschaft Stuttgart e.V.\nBüchsenstr. 34/36\n70174 Stuttgart\nBeginn
 :                             10.00 – 17.00 Uhr\nTermin:
                              02. - 03.11.2022\n\n
 Anmeldeschluss:                17.10.2022
LOCATION:Evangelische Gesellschaft Stuttgart e.V.\, Büchsenstr. 34/36\, St
 uttgart\, 70174\, Deutschland
GEO:48.7783248;9.172203599999989
X-APPLE-STRUCTURED-LOCATION;VALUE=URI;X-ADDRESS=Büchsenstr. 34/36\, Stuttg
 art\, 70174\, Deutschland;X-APPLE-RADIUS=100;X-TITLE=Evangelische Gesellsc
 haft Stuttgart e.V.:geo:48.7783248,9.172203599999989
END:VEVENT
BEGIN:VTIMEZONE
TZID:Europe/Berlin
X-LIC-LOCATION:Europe/Berlin
BEGIN:STANDARD
DTSTART:20221030T020000
TZOFFSETFROM:+0200
TZOFFSETTO:+0100
TZNAME:CET
END:STANDARD
END:VTIMEZONE
END:VCALENDAR