BEGIN:VCALENDAR
VERSION:2.0
PRODID:-//wp-events-plugin.com//7.2.3.1//EN
TZID:Europe/Berlin
X-WR-TIMEZONE:Europe/Berlin
BEGIN:VEVENT
UID:221@ifbcis.de
DTSTART;TZID=Europe/Berlin:20241209T100000
DTEND;TZID=Europe/Berlin:20241210T170000
DTSTAMP:20240429T065324Z
URL:https://ifbcis.de/events/herausforderndes-verhalten-aggressionen-und-g
 ewalt-das-ende-der-spirale-oder-eine-spirale-ohne-ende-3/
SUMMARY:Herausforderndes Verhalten\, Aggressionen und Gewalt - Das Ende der
  Spirale oder eine Spirale ohne Ende?
DESCRIPTION:Aggressionen von Menschen mit schweren Erkrankungen\, seelische
 r und geistiger Behinderung sowie Pflegebedürftigkeit sind im Alltag der 
 Arbeit mit Menschen mit Behinderungen und in der Kranken- und Altenpflege 
 nichts Ungewöhnliches mehr.\n\nÜberdies ist die besondere Zunahme von Ge
 walt und herausfordernden Verhalten junger Leute ein alltägliches Problem
 \, dessen Dimension stetig wächst.\n\nGibt es einen Zusammenhang in der T
 endenz zu größerer Gewalt und der Zunahme an psychischen Erkrankungen vo
 m Kindesalter über das Erwachsenen- bis zum Seniorenalter?\n\nWie ist zu 
 erklären\, dass bereits bei Kindern verstärkt soziogene Beeinträchtigun
 gen Ihre Teilhabe im Leben der Gemeinschaft einschränken?\n\nMitarbeitend
 e in der Eingliederungshilfe und in der Krankenpflege sind durch die zuneh
 mende Gewalt stark gefordert. Das „Erdulden“ und „Abwehren“ von au
 to-\, sach- und fremdaggressiven Handlungen und vielfältiger Provokatione
 n verletzt auch immer einen Teil der eigenen Persönlichkeit oder stellt s
 ie in Frage.\n\nEs soll im Seminar Klarheit über die Formen und Ursachen 
 von herausfordernden Verhalten\, Gewalt und Aggression von Jugendlichen un
 d jungen Erwachsenen mit Behinderungen\, von Menschen mit geistigen und se
 elischen Behinderungen und in der Altenpflege erarbeitet werden. Hierfür 
 werden die unterschiedlichen Arbeitsfelder in Ihrer typischen Struktur ana
 lysiert.\n\nEin weiterer Aspekt ist die immer häufiger auftretende Gewalt
  und Aggression von Mädchen und jungen Frauen.\n\nMit der erarbeiten Klar
 heit darüber werden Grundlagen für den Schutz der psychischen und psychi
 schen Gesundheit der Mitarbeiterinnen und Mitarbeiter im Arbeitsalltag era
 rbeitet. \n\nInhalte: \n\na) Sorgen und Probleme mit Herausforderungen\, 
 Aggression und Gewalt in der Behindertenhilfe und Altenpflege\n\n b) Ursa
 chen und Auslöser von Gewalt. Allgemeine Grundlagen und Erklärungen für
  herausforderndes Verhalten\, Gewalt und Aggression. Theorien aggressiven 
 Verhaltens und insbesondere dabei:\n\n 	Aggression und seine Ausprägung i
 n der Ontogenese\,\n 	Das Wechselverhältnis von Frustration und insbesond
 ere Gewalt\,\n 	Aggression als menschlicher Trieb sowie\n 	herausfordernde
 s Verhalten als Methode der jugendlichen Entwicklung.\n\nc) Aggression und
  zunehmende Gewalt als soziales Problem.\n\nd) Soziogene Störungen – ei
 ne neue Behinderungsform.\n\nd) Deeskalation und Schutz – Möglichkeiten
  im professionellen Alltag.\n\nMethoden: \n\n 	Praxisorientiertes Kennenle
 rnen und Auffrischen von Grundlagen herausfordernden und aggressiven Verha
 ltens im Arbeitsalltag.\n 	Erfahrungsaustausch zu den eigenen Erfahrungen 
 mit Gewalt im persönlichen Arbeitsfeld.\n 	Reflektion zu typischen Formen
  von Herausforderungen und Aggression.\n 	Aufbau von Fähigkeiten und Fert
 igkeiten zur Abwehr von Provokationen und Aggression.\n\nZiel des Seminars
  \n\n 	Sie entwickeln neues Fachwissen in Sondersituationen.\n 	Sie lernen
  in Übungen und Fallbeispielen Situationen von herausfordernden Verhalten
  und Aggression früher zu erkennen und differenzierter zu strukturieren.\
 n 	Sie stärken ihr Selbstverständnis und entwickeln Grundlagen für indi
 viduelle Schutzmechanismen in Ihrem Aufgabenbereich weiter.\n\nZielgruppe:
   Mitarbeitende in sozialen Einrichtungen\, aus der Kinder- und Jugendhil
 fe\, aus Werkstätten und Wohnheimen\n\nTeilnehmer: max. 18 Personen\n\nDo
 zent:  Dr. paed. Gert Heinicke\n\nPreis: € 425\,00 zzgl. MwSt. (Inkl. K
 affeepausen)\n\nDurch die Abgabe Ihrer Anmeldung erklären Sie sich mit un
 seren AGB’s einverstanden.\n\nVeranstaltungsort:\n\n\n\n\n\n\n\n\nJugend
 gästehaus Wien-Brigittenau\n\n\n\n\n\n\n\nAdalbert Stifter Straße 73\n\n
 1200 Wien\n\nBeginn: 10.00 – 17.00 Uhr\n\nTermin: 09.-10.12.2024\n\nAnme
 ldeschluss: 25.11.2024
LOCATION:Jugendgästehaus Wien-Brigittenau\, Adalbert Stifter Straße 73\, 
 1200 Wien\, Österreich
GEO:48.244271;16.377906
X-APPLE-STRUCTURED-LOCATION;VALUE=URI;X-ADDRESS=Adalbert Stifter Straße 73
 \, 1200 Wien\, Österreich;X-APPLE-RADIUS=100;X-TITLE=Jugendgästehaus Wie
 n-Brigittenau:geo:48.244271,16.377906
END:VEVENT
BEGIN:VTIMEZONE
TZID:Europe/Berlin
X-LIC-LOCATION:Europe/Berlin
BEGIN:STANDARD
DTSTART:20241027T020000
TZOFFSETFROM:+0200
TZOFFSETTO:+0100
TZNAME:CET
END:STANDARD
END:VTIMEZONE
END:VCALENDAR