BEGIN:VCALENDAR
VERSION:2.0
PRODID:-//wp-events-plugin.com//7.2.3.1//EN
TZID:Europe/Berlin
X-WR-TIMEZONE:Europe/Berlin
BEGIN:VEVENT
UID:185@ifbcis.de
DTSTART;TZID=Europe/Berlin:20231219T090000
DTEND;TZID=Europe/Berlin:20231219T153000
DTSTAMP:20231115T060304Z
URL:https://ifbcis.de/events/fallbesprechung-fallsupervision/
SUMMARY:Fallbesprechung - Fallsupervision
DESCRIPTION:Viele Teilnehmer haben den Wusch nach Fallbesprechung und Falls
 upervisionen an uns herangetragen. Wir tragen diesem Wunsch Rechnung mit d
 iesem Angebot.\n\nDie Fallberatungen werden - wo erforderlich- zum Beispie
 l bei notwendiger Beobachtung im Arbeitsumfeld oder in der Wohnsituation a
 uch in Präsenz durchgeführt.\n\nUm eine optimale Beratungsqualität zu g
 ewährleisten werden Anamnesbögen zur Verfügung gestellt\, die im Vorfel
 d von der Einrichtung auszufüllen sind.\n\nBitte beachten beachten Sie: u
 m so genauer und umfangreicher Daten zur Diagnostik und Anamnese vorliegen
  um so präziser und erfolgreicher können wir sie unterstützen.\n\nDozen
 t:                       Uwe Steinmeyer\, Steinmeyer
 -Institut für klinische Organisationspsychologie\n\nPreis: 169\,00 €  
 zzgl. der gesetzlichen MwSt.\nOrt: Online\nTechnik:\n\n 	einen PC oder Lap
 top\n 	stabile Internetverbindung\n 	eine Webcam (bei Laptops eingebaut)\n
  	Headset oder Kopfhörer\n\nIhre Anfrage für das Seminar am 19.12.2023 v
 on 09:00-15:30 Uhr\n\nVeranstaltungsort: Online\n\nBeginn: 09.00 – 15.30
  Uhr\n\nTermin: 19.12.2023\n\nAnmeldeschluss: 06.12.2023\n\n&nbsp\;\n\n&nb
 sp\;\n\n&nbsp\;
LOCATION:https://ifbcis.de/events/fallbesprechung-fallsupervision/
END:VEVENT
BEGIN:VTIMEZONE
TZID:Europe/Berlin
X-LIC-LOCATION:Europe/Berlin
BEGIN:STANDARD
DTSTART:20231029T020000
TZOFFSETFROM:+0200
TZOFFSETTO:+0100
TZNAME:CET
END:STANDARD
END:VTIMEZONE
END:VCALENDAR