BEGIN:VCALENDAR
VERSION:2.0
PRODID:-//wp-events-plugin.com//7.2.3.1//EN
TZID:Europe/Berlin
X-WR-TIMEZONE:Europe/Berlin
BEGIN:VEVENT
UID:198@ifbcis.de
DTSTART;TZID=Europe/Berlin:20231221T090000
DTEND;TZID=Europe/Berlin:20231221T153000
DTSTAMP:20230818T061438Z
URL:https://ifbcis.de/events/durchfuehrung-psychischer-gefaehrdungsbeurtei
 lung-2/
SUMMARY:Durchführung psychischer Gefährdungsbeurteilung
DESCRIPTION:Seit Ende 20213 fordert das Arbeitsschutzgesetz im § 5 Absatz 
 3 explizit die Berücksichtigung der psychischen Belastung in der Gefährd
 ungsbeurteilung. Das Heißt:\n\nAlle Unternehmen und Organisationen müsse
 n auch jene Gefährdungen für ihre Beschäftigten ermitteln\, die sich au
 s der psychischen Belastung bei der Arbeit ergeben.\n\nEine Nichtdurchfüh
 rung dieser Beurteilung kann im ungünstigsten Fall Regressforderungen der
  Sozialversicherungsträger nach sich ziehen.\n\nErfahrungen mit mehr als 
 700 mittelständigen Unternehmen zeigen auch das die Durchführung der psy
 chischen Gefährdungsbeurteilung die positive Einstellung der Mitarbeiteri
 nnen und Mitarbeiter zum Unternehmen stärkt und das Abwandern von Fachkr
 äften reduziert.\n\nDie Durchführung der Gefärdungsbeurteilung erfolgt 
 durch Betriebspsycholgen des Steinmeyer-Instituts\, die ebenfallsdie Finan
 ziellen Fördermöglichkeiten prüfen.\n\nDozent:            
           Uwe Steinmeyer\, Steinmeyer-Institut für klinische Org
 anisationspsychologie\n\nPreis: 169\,00 €  zzgl. der gesetzlichen MwSt.
 \nOrt: Online\nTechnik:\n\n 	einen PC oder Laptop\n 	stabile Internetverbi
 ndung\n 	eine Webcam (bei Laptops eingebaut)\n 	Headset oder Kopfhörer\n\
 nIhre Anfrage für das Seminar am 21.12.2023 von 09:00-15:30 Uhr\n\nVerans
 taltungsort: Online\n\nBeginn: 09.00 – 15.30 Uhr\n\nTermin: 21.12.2023\n
 \nAnmeldeschluss: 07.12.2023
LOCATION:https://ifbcis.de/?post_type=event&p=498&preview=true
END:VEVENT
BEGIN:VTIMEZONE
TZID:Europe/Berlin
X-LIC-LOCATION:Europe/Berlin
BEGIN:STANDARD
DTSTART:20231029T020000
TZOFFSETFROM:+0200
TZOFFSETTO:+0100
TZNAME:CET
END:STANDARD
END:VTIMEZONE
END:VCALENDAR