BEGIN:VCALENDAR
VERSION:2.0
PRODID:-//wp-events-plugin.com//7.2.3.1//EN
TZID:Europe/Berlin
X-WR-TIMEZONE:Europe/Berlin
BEGIN:VEVENT
UID:252@ifbcis.de
DTSTART;TZID=Europe/Berlin:20251106T093000
DTEND;TZID=Europe/Berlin:20251107T170000
DTSTAMP:20251014T200114Z
URL:https://ifbcis.de/events/das-modulare-baukastensystem-nach-dem-teacch-
 ansatz-modul-iii-22/
SUMMARY:Das modulare Baukastensystem nach dem TEACCH Ansatz (Modul I+II)
DESCRIPTION:„Manchmal weiß ich nicht mehr weiter…“ - vom gelungenen 
 Umgang mit Autismus. \nDas modulare Baukastensystem nach dem TEACCH Ansatz
  (Modul I+II)\nDie zweitägigen Einführungsmodule I und II bilden eine so
 lide Grundlage\, auf die die weiteren vertiefenden Module (III-IV) aufbaue
 n. Im Mittelpunkt steht das Verstehen von Menschen\, die unter den Bedingu
 ngen von Autismus leben und das Entwickeln zielgerichteter Unterstützungs
 möglichkeiten für die Anwendung in der Praxis wie z.B. das Arbeiten nach
  dem evidenzbasierten erfolgreichen Unterstützungskonzept – dem TEACCH
 ® Ansatz.\n\nAm ersten Tag werden Denk-\, Lern- und Wahrnehmungsstrategie
 n als Grundlagen von Handlungsstrategien beleuchtet. Beim Autismus Spektru
 m handelt es sich um ein neurobiologisches Erscheinungsbild. Der zweite Ta
 g dient der Vertiefung. Exemplarisch werden anhand Ihrer mitgebrachten Fal
 lvignetten Elemente der Strukturierung und Visualisierung in Bezug auf Rau
 m\, Zeit und Aktivitäten angewandt. Eine derart vorbereitete Umgebung unt
 erstützt das Verstehen und wirkt stabilisierend. Unser Blick ist auf die 
 Selbstwirksamkeitskräfte der Person gerichtet.\n\nJedes Modul umfasst 8 U
 nterrichteinheiten à 45 Minuten.\n\nArbeitsformen:\n\n 	Praxisorientierte
  Vorträge\n 	Kleingruppenarbeit\n 	Übungen\n\nZielgruppe: Professionelle
 \, Institutionen\, Angehörige und Interessierte\n\nTeilnehmer:     
            max. 12 Personen\n\nDozentin: Petra Steinborn\, Diplo
 m-Pädagogin mit dem Schwerpunkt Sondererziehung und Rehabilitation\, Zert
 ifikate in Systemischer Therapie und Beratung\, Arbeiten nach dem TEACCH A
 nsatz\, NLP Practitioner\,\n\nPreis: 395\,00€ zzgl. MwSt. (Inkl. Seminar
 unterlagen\, Stehkaffee mit Gebäck und Tagungsgetränke)\n\nVeranstaltung
 sort:  ABC Autismus\nRichardstr. 84\n22089 Hamburg\n\nBeginn:      
                        09.30 – 17.00 Uhr\n\nTermin:
                              06.-07.11.2025\n\nAn
 meldeschluss:                23.10.2025
LOCATION:ABC Autismus\, Richardstr. 84\, Hamburg\, 22089\, Deutschland
GEO:53.5674825;10.039490900000033
X-APPLE-STRUCTURED-LOCATION;VALUE=URI;X-ADDRESS=Richardstr. 84\, Hamburg\, 
 22089\, Deutschland;X-APPLE-RADIUS=100;X-TITLE=ABC Autismus:geo:53.5674825
 ,10.039490900000033
END:VEVENT
BEGIN:VTIMEZONE
TZID:Europe/Berlin
X-LIC-LOCATION:Europe/Berlin
BEGIN:STANDARD
DTSTART:20251026T020000
TZOFFSETFROM:+0200
TZOFFSETTO:+0100
TZNAME:CET
END:STANDARD
END:VTIMEZONE
END:VCALENDAR