BEGIN:VCALENDAR
VERSION:2.0
PRODID:-//wp-events-plugin.com//7.2.3.1//EN
TZID:Europe/Berlin
X-WR-TIMEZONE:Europe/Berlin
BEGIN:VEVENT
UID:113@ifbcis.de
DTSTART;TZID=Europe/Berlin:20210422T093000
DTEND;TZID=Europe/Berlin:20210423T170000
DTSTAMP:20210316T093709Z
URL:https://ifbcis.de/events/das-modulare-baukastensystem-nach-dem-teacch-
 ansatz-modul-iii-2/
SUMMARY:Das modulare Baukastensystem nach dem TEACCH Ansatz (Modul III+IV)
DESCRIPTION:Vertiefend können die Module III Herausforderndes Verhalten 
 –Problemverhalten und IV Sozialverhalten hinzugebucht werden\nDas modula
 re Baukastensystem nach dem TEACCH Ansatz (Modul III+IV)\nDas Modul III be
 leuchtet herausfordernde Verhaltensweisen\, die für alle Beteiligten sehr
  belastend sein können. Ziel ist\, ein besseres Verständnis für schwier
 ige Verhaltensweisen und ihre Entstehungszusammenhänge zu entwickeln und 
 tragfähige Strategien für den Umgang kennen zu lernen. Beim Umgang mit h
 erausforderndem Verhalten geht es häufig darum\, dass wir unser eigenes V
 erhalten ändern\, damit das Gegenüber sein Verhalten ändern kann.\n\nIm
  Modul IV werden Beeinträchtigungen der sozialen Fähigkeiten besprochen.
  Menschen\, die unter den Bedingungen von Autismus leben\, haben Probleme 
 mit der Kontaktaufnahme zu anderen Menschen sowie beim Erkennen situations
 spezifischer Regeln. Soziales Lernen geschieht auf zwei Wegen: durch Lerne
 n am Modell oder durch Versuch und Irrtum. Menschen aus dem Autismus Spekt
 rum haben in der Regel mit beiden Lernstilen Schwierigkeiten. Erfahrungsge
 mäß fällt ihnen das Lernen leichter\, wenn die sozialen Anforderungen s
 ich an ihren individuellen Fähigkeiten orientieren und daraus gezielte Le
 rnangebote entwickelt werden.\n\nJedes Modul umfasst 8 Unterrichteinheiten
  à 45 Minuten.\n\nVoraussetzung ist allerdings die Teilnahme an den Grund
 lagenmodulen I und II.\n\nArbeitsformen:\n\n 	Praxisorientierte Vorträge\
 n 	Kleingruppenarbeit\n 	Übungen\n\nZielgruppe: Professionelle\, Institut
 ionen\, Angehörige und Interessierte\n\nTeilnehmer:           
      max. 12 Personen\n\nDozentin: Petra Steinborn\, Diplom-Pädagogin
  mit dem Schwerpunkt Sondererziehung und Rehabilitation\, Zertifikate in S
 ystemischer Therapie und Beratung\, Arbeiten nach dem TEACCH Ansatz\, NLP 
 Practitioner\,\n\nPreis: 325\,00€ zzgl. MwSt. (Inkl. Seminarunterlagen\,
  Stehkaffee mit Gebäck und Tagungsgetränke)\n\nVeranstaltungsort:  ABC 
 Autismus\nRichardstr. 84\n22089 Hamburg\n\nBeginn:            
                  09.30 – 17.00 Uhr\n\nTermin:      
                        22.-23.04.2021\n\nAnmeldeschluss
 :             01.04.2021
LOCATION:ABC Autismus\, Richardstr. 84\, Hamburg\, 22089\, Deutschland
GEO:53.5674825;10.039490900000033
X-APPLE-STRUCTURED-LOCATION;VALUE=URI;X-ADDRESS=Richardstr. 84\, Hamburg\, 
 22089\, Deutschland;X-APPLE-RADIUS=100;X-TITLE=ABC Autismus:geo:53.5674825
 ,10.039490900000033
END:VEVENT
BEGIN:VTIMEZONE
TZID:Europe/Berlin
X-LIC-LOCATION:Europe/Berlin
BEGIN:DAYLIGHT
DTSTART:20210328T030000
TZOFFSETFROM:+0100
TZOFFSETTO:+0200
TZNAME:CEST
END:DAYLIGHT
END:VTIMEZONE
END:VCALENDAR