BEGIN:VCALENDAR
VERSION:2.0
PRODID:-//wp-events-plugin.com//7.2.3.1//EN
TZID:Europe/Berlin
X-WR-TIMEZONE:Europe/Berlin
BEGIN:VEVENT
UID:187@ifbcis.de
DTSTART;TZID=Europe/Berlin:20230907T143000
DTEND;TZID=Europe/Berlin:20230907T160000
DTSTAMP:20230417T103555Z
URL:https://ifbcis.de/events/beziehungsweise-handeln-in-herausfordernden-s
 ituationen-unter-besonderer-beruecksichtigung-der-entwicklungsfreundlichen
 -beziehung-nach-senckel-luxen/
SUMMARY:„Beziehungsweise…“ Handeln in herausfordernden Situationen. u
 nter besonderer Berücksichtigung der „Entwicklungsfreundlichen Beziehun
 g nach Senckel/Luxen“®
DESCRIPTION:Die wechselseitige Resonanz bestimmt stets die Qualität von Be
 ziehungen. In pädagogischen Beziehungen wie z.B. der „Entwicklungsfreun
 dlichen Beziehung nach Senckel / Luxen“® werden deshalb die persönlich
 en Anteile der Fachkräfte als ein Schlüssel gesehen\, um das Gelingen zu
  unterstützen und schwierige Situationen aufzulösen. Wie der Weg aus der
  Verhaltensfalle aussehen kann\, so dass herausfordernde Verhaltensweisen 
 nicht mehr destruktiv wirken\, erfahren Sie in diesem Kurzseminar. \n\nZi
 el: Einblick in den Weg aus der Verhaltensfalle\n\nInhalte: \n\n 	Sinn und
  Funktion herausfordernder Verhaltensweisen\n 	Analyse schwieriger Situati
 onen\n 	Beziehungsdynamik\, Selbstsorge und Selbstreflexion\n 	Bedeutung s
 ozio-emotionaler Fähigkeiten\n 	Haltgebende Interaktionen gestalten\n\nZi
 elgruppe: Mitarbeitende in pädagogischen Einrichtungen für Menschen mit 
 oder ohne kognitiver Beeinträchtigung\n\nTechnik:\n\n 	einen PC oder Lapt
 op\n 	stabile Internetverbindung\n 	eine Webcam (bei Laptops eingebaut)\n\
 nDozentin: Martina Hehn-Oldiges\n\nTeilnehmer: max. 16 Personen\n\nPreis: 
 65\,00€ (incl. der gesetzlichen Mehrwertsteuer)\n\nVeranstaltungsort: On
 line\n\nBeginn: 14.30 – 16.00 Uhr\n\nTermin: 07.09.2023\n\nAnmeldeschlus
 s: 17.08.2023
LOCATION:https://ifbcis.de/events/beziehungsweise-handeln-in-herausfordernd
 en-situationen-unter-besonderer-beruecksichtigung-der-entwicklungsfreundli
 chen-beziehung-nach-senckel-luxen/
END:VEVENT
BEGIN:VTIMEZONE
TZID:Europe/Berlin
X-LIC-LOCATION:Europe/Berlin
BEGIN:DAYLIGHT
DTSTART:20230326T030000
TZOFFSETFROM:+0100
TZOFFSETTO:+0200
TZNAME:CEST
END:DAYLIGHT
END:VTIMEZONE
END:VCALENDAR