BEGIN:VCALENDAR
VERSION:2.0
PRODID:-//wp-events-plugin.com//7.2.3.1//EN
TZID:Europe/Berlin
X-WR-TIMEZONE:Europe/Berlin
BEGIN:VEVENT
UID:196@ifbcis.de
DTSTART;TZID=Europe/Berlin:20230921T090000
DTEND;TZID=Europe/Berlin:20230921T170000
DTSTAMP:20230724T123026Z
URL:https://ifbcis.de/events/autismus-strategien-fuer-den-umgang-mit-herau
 sfordernden-verhaltensweisen/
SUMMARY:Autismus – Strategien für den Umgang mit herausfordernden Verhal
 tensweisen
DESCRIPTION:Ein Einblick in das Konzept der positiven Verhaltensunterstütz
 ung\n\n\nAutismus und Verhaltensauffälligkeiten\, die beiden Begriffe sch
 einen untrennbar miteinander verknüpft zu sein. Allzu oft wird die Tatsch
 e aus den Augen verloren das Verhaltensauffälligkeiten kein Begleitsympto
 m von Autismus sind sondern stets Ausdruck eines gestörten Verhältnisses
  zwischen Person und Umwelt.\n\nDoch wie erkennt man die\, dem herausforde
 rndem Verhalten zugrunde liegenden Ursachen? Und erst recht\, welche Unter
 stützungsmaßnahmen erweisen sich als hilfreich bei der Lösung und Bewä
 ltigung von Verhaltensproblemen?\n\nMit dem Konzept der positiven Verhalte
 nsunterstützung nach Theunissen können Verhaltensprobleme effektiv und w
 irkungsvoll in den Blick genommen und Lösungsansätze entwickelt werden.\
 n\nIm Rahmen des Konzeptes wird die Interaktion zwischen der Person und se
 iner Umwelt analysiert. Auf den daraus resultierenden Kenntnissen wird ein
  Handlungsplan entwickelt\, welcher der betroffenen Person und ihren Bezug
 spersonen hilft\, kritische Situationen zu bewältigen und ein befriedigen
 deres Miteinander zu schaffen.\n\nZielgruppe:          \n\nMitar
 beiterInnen und Führungskräfte aus den Bereichen Wohnen\, Arbeit\, Freiz
 eit\, Personen aus dem Umfeld von Menschen mit Autismus\n\nDozentin:  Sus
 anne Strasser (ehemals Radl)\n\nDatum: 21.09.2023\n\nZeit: 09:00-17:00 Uhr
 \n\nPreis: € 209\,00 zzgl. MwSt. (Inkl. Kaffeepausen)\n\nDurch die Abgab
 e Ihrer Anmeldung erklären Sie sich mit unseren AGB’s einverstanden
LOCATION:Caritas der Erzdiözese Wien\, Mommsengasse 35\,  Wien\, \, 1040\,
  Österreich
GEO:48.188107;16.37928
X-APPLE-STRUCTURED-LOCATION;VALUE=URI;X-ADDRESS=Mommsengasse 35\,  Wien\, \
 , 1040\, Österreich;X-APPLE-RADIUS=100;X-TITLE=Caritas der Erzdiözese Wi
 en:geo:48.188107,16.37928
END:VEVENT
BEGIN:VTIMEZONE
TZID:Europe/Berlin
X-LIC-LOCATION:Europe/Berlin
BEGIN:DAYLIGHT
DTSTART:20230326T030000
TZOFFSETFROM:+0100
TZOFFSETTO:+0200
TZNAME:CEST
END:DAYLIGHT
END:VTIMEZONE
END:VCALENDAR