BEGIN:VCALENDAR
VERSION:2.0
PRODID:-//wp-events-plugin.com//7.2.3.1//EN
TZID:Europe/Berlin
X-WR-TIMEZONE:Europe/Berlin
BEGIN:VEVENT
UID:217@ifbcis.de
DTSTART;TZID=Europe/Berlin:20240604T090000
DTEND;TZID=Europe/Berlin:20240604T170000
DTSTAMP:20240412T075149Z
URL:https://ifbcis.de/events/autismus-strategien-fuer-den-umgang-mit-herau
 sfordernden-verhaltensweisen-2/
SUMMARY:Autismus – Strategien für den Umgang mit herausfordernden Verhal
 tensweisen
DESCRIPTION:Autismus – Strategien für den Umgang mit herausfordernden Ve
 rhaltensweisen\n\nEin Einblick in das Konzept der positiven Verhaltensunte
 rstützung\nAutismus und Verhaltensauffälligkeiten\, die beiden Begriffe 
 scheinen untrennbar miteinander verknüpft zu sein. Allzu oft wird die Tat
 sche aus den Augen verloren das Verhaltensauffälligkeiten kein Begleitsym
 ptom von Autismus sind sondern stets Ausdruck eines gestörten Verhältnis
 ses zwischen Person und Umwelt.Doch wie erkennt man die\, dem herausforder
 ndem Verhalten zugrunde liegenden Ursachen? Und erst recht\, welche Unters
 tützungsmaßnahmen erweisen sich als hilfreich bei der Lösung und Bewäl
 tigung von Verhaltensproblemen?Mit dem Konzept der positiven Verhaltensunt
 erstützung nach Theunissen können Verhaltensprobleme effektiv und wirkun
 gsvoll in den Blick genommen und Lösungsansätze entwickelt werden.Im Rah
 men des Konzeptes wird die Interaktion zwischen der Person und seiner Umwe
 lt analysiert. Auf den daraus resultierenden Kenntnissen wird ein Handlung
 splan entwickelt\, welcher der betroffenen Person und ihren Bezugspersonen
  hilft\, kritische Situationen zu bewältigen und ein befriedigenderes Mit
 einander zu schaffen.\n\nZielgruppe:          \n\nMitarbeiterInn
 en und Führungskräfte aus den Bereichen Wohnen\, Arbeit\, Freizeit\, Per
 sonen aus dem Umfeld von Menschen mit Autismus\n\nDozentin:  Susanne Stra
 sser (bis vor kurzem Radl)\n\nDatum: 04.06.2024\n\nZeit: 09:00-17:00 Uhr\n
 \nPreis: € 209\,00 zzgl. MwSt. (Inkl. Kaffeepausen)\n\nDurch die Abgabe 
 Ihrer Anmeldung erklären Sie sich mit unseren AGB’s einverstanden.\n\nV
 eranstaltungsort:\n\n\n\n\n\n\n\n\nJugendgästehaus Wien-Brigittenau\n\n\n
 \n\n\n\n\nAdalbert Stifter Straße 73\n\n1200 Wien\n\nBeginn:      
                        09.00 – 17.00 Uhr\n\nTermin:
                              04.06.2024\n\nAnmeld
 eschluss:                16.05.2024
LOCATION:Jugendgästehaus Wien-Brigittenau\, Adalbert Stifter Straße 73\, 
 1200 Wien\, Österreich
GEO:48.244271;16.377906
X-APPLE-STRUCTURED-LOCATION;VALUE=URI;X-ADDRESS=Adalbert Stifter Straße 73
 \, 1200 Wien\, Österreich;X-APPLE-RADIUS=100;X-TITLE=Jugendgästehaus Wie
 n-Brigittenau:geo:48.244271,16.377906
END:VEVENT
BEGIN:VTIMEZONE
TZID:Europe/Berlin
X-LIC-LOCATION:Europe/Berlin
BEGIN:DAYLIGHT
DTSTART:20240331T030000
TZOFFSETFROM:+0100
TZOFFSETTO:+0200
TZNAME:CEST
END:DAYLIGHT
END:VTIMEZONE
END:VCALENDAR